BEGIN:VCALENDAR
VERSION:2.0
PRODID:-//Prevent the Aftermath - ECPv6.15.11//NONSGML v1.0//EN
CALSCALE:GREGORIAN
METHOD:PUBLISH
X-WR-CALNAME:Prevent the Aftermath
X-ORIGINAL-URL:https://preventtheaftermath.org
X-WR-CALDESC:Events for Prevent the Aftermath
REFRESH-INTERVAL;VALUE=DURATION:PT1H
X-Robots-Tag:noindex
X-PUBLISHED-TTL:PT1H
BEGIN:VTIMEZONE
TZID:UTC
BEGIN:STANDARD
TZOFFSETFROM:+0000
TZOFFSETTO:+0000
TZNAME:UTC
DTSTART:20230101T000000
END:STANDARD
END:VTIMEZONE
BEGIN:VEVENT
DTSTART;TZID=UTC:20240625T080000
DTEND;TZID=UTC:20240625T170000
DTSTAMP:20260419T150120
CREATED:20240524T100033Z
LAST-MODIFIED:20240613T063151Z
UID:10000002-1719302400-1719334800@preventtheaftermath.org
SUMMARY:Community Safety and Awareness Workshop
DESCRIPTION:Empower community members with knowledge and resources to recognize the signs of potential violence and take proactive steps to enhance safety. This interactive workshop provides practical guidance on threat awareness\, emergency preparedness\, and collaboration with local authorities for a united approach to preventing active shooter incidents.
URL:https://preventtheaftermath.org/event/community-safety-and-awareness-workshop/
LOCATION:Manhattan\, KS\, Manhattan\, KS\, Manhattan\, KS\, KS\, 66505\, United States
ATTACH;FMTTYPE=image/jpeg:https://preventtheaftermath.org/wp-content/uploads/2024/05/Training_pillars.jpg
ORGANIZER;CN="Prevent the Aftermath%2C Inc":MAILTO:Support@davidolsonfootball.com
END:VEVENT
END:VCALENDAR